BEGIN:VCALENDAR
VERSION:2.0
PRODID:-//Anbelyn - ECPv6.15.20//NONSGML v1.0//EN
CALSCALE:GREGORIAN
METHOD:PUBLISH
X-ORIGINAL-URL:https://anbelyn.de
X-WR-CALDESC:Veranstaltungen für Anbelyn
REFRESH-INTERVAL;VALUE=DURATION:PT1H
X-Robots-Tag:noindex
X-PUBLISHED-TTL:PT1H
BEGIN:VTIMEZONE
TZID:Europe/Helsinki
BEGIN:DAYLIGHT
TZOFFSETFROM:+0200
TZOFFSETTO:+0300
TZNAME:EEST
DTSTART:20240331T010000
END:DAYLIGHT
BEGIN:STANDARD
TZOFFSETFROM:+0300
TZOFFSETTO:+0200
TZNAME:EET
DTSTART:20241027T010000
END:STANDARD
BEGIN:DAYLIGHT
TZOFFSETFROM:+0200
TZOFFSETTO:+0300
TZNAME:EEST
DTSTART:20250330T010000
END:DAYLIGHT
BEGIN:STANDARD
TZOFFSETFROM:+0300
TZOFFSETTO:+0200
TZNAME:EET
DTSTART:20251026T010000
END:STANDARD
BEGIN:DAYLIGHT
TZOFFSETFROM:+0200
TZOFFSETTO:+0300
TZNAME:EEST
DTSTART:20260329T010000
END:DAYLIGHT
BEGIN:STANDARD
TZOFFSETFROM:+0300
TZOFFSETTO:+0200
TZNAME:EET
DTSTART:20261025T010000
END:STANDARD
END:VTIMEZONE
BEGIN:VEVENT
DTSTART;VALUE=DATE:20250914
DTEND;VALUE=DATE:20250915
DTSTAMP:20260424T031352
CREATED:20250317T084450Z
LAST-MODIFIED:20250913T080803Z
UID:1962-1757808000-1757894399@anbelyn.de
SUMMARY:Hula Hoop Day Berlin - QSpace
DESCRIPTION:Hula Hoop Workshop Day Berlin – Ein Tag voller Bewegung & Spaß im QSpace\n📅 Datum: Sonntag\, 14. September 2025\n📍 Neuer Ort merken & weitersagen:📌 QSpace\, Mühlenstraße 62–64 / Haus 11\, 13187 Berlin \nhttps://www.instagram.com/qspace.berlin?igsh=MXZwcWo3N3IwNXh6ZQ== \n🔗 Anmeldung : anbelyndesign@gmail.com \nLevel: Fortgeschritten\nHinweis: ein paar Hula Hoops werden passend zu den Kursen mitgebracht. \n💰 Teilnahmegebühren\n\n\n\nVariante\nPreis\n\n\nRegulär\n75 €\n\n\nEarly-Bird (1. bis 10. Ticket)\n65 €\n\n\nRegulär inkl. Essen\n85 €\n\n\nEarly-Bird inkl. Essen\n75 €\n\n\nKinderworkshop (mit Katta)\n 30 €\n\n\n\nErlebe einen ganzen Tag voller Hula-Hoop-Workshops inmitten der Natur! Gemeinsam mit den talentierten Trainerinnen Eleni\, Carolin\, Katta und Anne bieten wir dir ein vielseitiges Programm rund um Flow\, Technik und Entspannung. \nWas dich erwartet:\n4 inspirierende Workshops – lerne neue Tricks\, verbessere deine Technik und entdecke fließende Bewegungen.Hula Hoop Flow & Technik – von Basics bis zu anspruchsvollen Combos\, für jedes Level geeignet.Hoop Dance – finde deine Balance zwischen Körper und Geist.Gemeinschaft & Austausch – vernetze dich mit anderen Hoop-Liebhaber:innen und genieße die entspannte Atmosphäre am Plötzensee. \n🕘 Tagesablauf:10:00 – Ankommen & Kennenlernen10:30 – Eleni: Embrace Your Crown: Queen/King Flow  👑12:00 – Anne: Twin Hoop Flow 🔥Parallel: Kinder-Workshop mit Katta 🧒15:00 – Carolin: Floorwork Single Hoop16:30 – Katta: Goddess Machine18:00 bis 21:00 – Jam mit DJ 🎵✨(Spendenempfehlung: 5–15 €) \nDie Trainerinnen findet ihr auf Instagram:\nEleni –sacredcirclestories \nCarolin –luft_liebe_laissezfaire \nKatta –la_hula_lady \nAnne – Anbelyn_hoop \nErfrischung gefällig? Wenn euch zwischendurch zu warm wird\, könnt ihr euch gerne im Plötzensee abkühlen! \nBleibt auf dem Laufenden!Folgt uns allen auf Instagram\, um keine Neuigkeiten zu verpassen! Alle Infos und Updates werden hier auf der Seite regelmäßig aktualisiert.
URL:https://anbelyn.de/veranstaltung/hula-hoop-day-berlin-ploetzensee/
END:VEVENT
END:VCALENDAR