BEGIN:VCALENDAR
VERSION:2.0
PRODID:-//Anbelyn - ECPv6.15.20//NONSGML v1.0//EN
CALSCALE:GREGORIAN
METHOD:PUBLISH
X-ORIGINAL-URL:https://anbelyn.de
X-WR-CALDESC:Veranstaltungen für Anbelyn
REFRESH-INTERVAL;VALUE=DURATION:PT1H
X-Robots-Tag:noindex
X-PUBLISHED-TTL:PT1H
BEGIN:VTIMEZONE
TZID:Europe/Helsinki
BEGIN:DAYLIGHT
TZOFFSETFROM:+0200
TZOFFSETTO:+0300
TZNAME:EEST
DTSTART:20250330T010000
END:DAYLIGHT
BEGIN:STANDARD
TZOFFSETFROM:+0300
TZOFFSETTO:+0200
TZNAME:EET
DTSTART:20251026T010000
END:STANDARD
BEGIN:DAYLIGHT
TZOFFSETFROM:+0200
TZOFFSETTO:+0300
TZNAME:EEST
DTSTART:20260329T010000
END:DAYLIGHT
BEGIN:STANDARD
TZOFFSETFROM:+0300
TZOFFSETTO:+0200
TZNAME:EET
DTSTART:20261025T010000
END:STANDARD
BEGIN:DAYLIGHT
TZOFFSETFROM:+0200
TZOFFSETTO:+0300
TZNAME:EEST
DTSTART:20270328T010000
END:DAYLIGHT
BEGIN:STANDARD
TZOFFSETFROM:+0300
TZOFFSETTO:+0200
TZNAME:EET
DTSTART:20271031T010000
END:STANDARD
END:VTIMEZONE
BEGIN:VEVENT
DTSTART;VALUE=DATE:20260409
DTEND;VALUE=DATE:20260415
DTSTAMP:20260423T163647
CREATED:20241108T110013Z
LAST-MODIFIED:20250625T063238Z
UID:1650-1775692800-1776211199@anbelyn.de
SUMMARY:Hoop Dream Retreat\, Bali
DESCRIPTION:6 Tage 5 Nächte Hoop Dance Intensiv und Urlaub\n2-3 frische\, gesunde Mahlzeiten am Tag\nVielfältiges Workshop-Angebot – Hoop Dance\, Flow\, Kreativität\, bewusstes Spielen\, Hoop Tech & Tricks\, gezielte Bewegung\, Stretching\, Atemarbeit & Klangheilung\, Brandschutzgespräch\, LED & Fire Jam\, Hoop Jams
URL:https://anbelyn.de/veranstaltung/hoop-dream-retreat-bali/
END:VEVENT
END:VCALENDAR