BEGIN:VCALENDAR
VERSION:2.0
PRODID:-//Anbelyn - ECPv6.15.20//NONSGML v1.0//EN
CALSCALE:GREGORIAN
METHOD:PUBLISH
X-WR-CALNAME:Anbelyn
X-ORIGINAL-URL:https://anbelyn.de
X-WR-CALDESC:Veranstaltungen für Anbelyn
REFRESH-INTERVAL;VALUE=DURATION:PT1H
X-Robots-Tag:noindex
X-PUBLISHED-TTL:PT1H
BEGIN:VTIMEZONE
TZID:Europe/Helsinki
BEGIN:DAYLIGHT
TZOFFSETFROM:+0200
TZOFFSETTO:+0300
TZNAME:EEST
DTSTART:20250330T010000
END:DAYLIGHT
BEGIN:STANDARD
TZOFFSETFROM:+0300
TZOFFSETTO:+0200
TZNAME:EET
DTSTART:20251026T010000
END:STANDARD
BEGIN:DAYLIGHT
TZOFFSETFROM:+0200
TZOFFSETTO:+0300
TZNAME:EEST
DTSTART:20260329T010000
END:DAYLIGHT
BEGIN:STANDARD
TZOFFSETFROM:+0300
TZOFFSETTO:+0200
TZNAME:EET
DTSTART:20261025T010000
END:STANDARD
BEGIN:DAYLIGHT
TZOFFSETFROM:+0200
TZOFFSETTO:+0300
TZNAME:EEST
DTSTART:20270328T010000
END:DAYLIGHT
BEGIN:STANDARD
TZOFFSETFROM:+0300
TZOFFSETTO:+0200
TZNAME:EET
DTSTART:20271031T010000
END:STANDARD
END:VTIMEZONE
BEGIN:VEVENT
DTSTART;VALUE=DATE:20261001
DTEND;VALUE=DATE:20261006
DTSTAMP:20260424T210810
CREATED:20240603T070259Z
LAST-MODIFIED:20251020T084044Z
UID:1197-1790812800-1791244799@anbelyn.de
SUMMARY:SWhoop\, Bristol (UK)
DESCRIPTION:SWhoop ist die South West Hoop Conference\, präsentiert von Hooping Mad (alias Emma Kenna). SWhoop findet in einer umgebauten Kirche im Herzen von Bristol in Großbritannien statt und ist ein hochintensiver Wirbelwind aus Hoop-Workshops\, Basteln\, Shows\, Ukulele\, Luftakrobatik\, Pole Dance und VIEL Gelächter. Jedes Jahr bieten wir eine Auswahl der besten Hoop-Lehrer und -Ausbilder\, einen ganzen Bastelbereich\, einen ganzen Luftakrobatik-/Pole-Bereich an einem sehr nahe gelegenen separaten Veranstaltungsort sowie zusätzliche Zirkus- und Tanzworkshops.
URL:https://anbelyn.de/veranstaltung/swhoop-bristol-uk/
END:VEVENT
END:VCALENDAR