BEGIN:VCALENDAR
VERSION:2.0
PRODID:-//Anbelyn - ECPv6.15.20//NONSGML v1.0//EN
CALSCALE:GREGORIAN
METHOD:PUBLISH
X-WR-CALNAME:Anbelyn
X-ORIGINAL-URL:https://anbelyn.de
X-WR-CALDESC:Veranstaltungen für Anbelyn
REFRESH-INTERVAL;VALUE=DURATION:PT1H
X-Robots-Tag:noindex
X-PUBLISHED-TTL:PT1H
BEGIN:VTIMEZONE
TZID:Europe/Helsinki
BEGIN:DAYLIGHT
TZOFFSETFROM:+0200
TZOFFSETTO:+0300
TZNAME:EEST
DTSTART:20230326T010000
END:DAYLIGHT
BEGIN:STANDARD
TZOFFSETFROM:+0300
TZOFFSETTO:+0200
TZNAME:EET
DTSTART:20231029T010000
END:STANDARD
BEGIN:DAYLIGHT
TZOFFSETFROM:+0200
TZOFFSETTO:+0300
TZNAME:EEST
DTSTART:20240331T010000
END:DAYLIGHT
BEGIN:STANDARD
TZOFFSETFROM:+0300
TZOFFSETTO:+0200
TZNAME:EET
DTSTART:20241027T010000
END:STANDARD
BEGIN:DAYLIGHT
TZOFFSETFROM:+0200
TZOFFSETTO:+0300
TZNAME:EEST
DTSTART:20250330T010000
END:DAYLIGHT
BEGIN:STANDARD
TZOFFSETFROM:+0300
TZOFFSETTO:+0200
TZNAME:EET
DTSTART:20251026T010000
END:STANDARD
END:VTIMEZONE
BEGIN:VEVENT
DTSTART;VALUE=DATE:20240616
DTEND;VALUE=DATE:20240617
DTSTAMP:20260424T040621
CREATED:20240603T081218Z
LAST-MODIFIED:20240603T081218Z
UID:1213-1718496000-1718582399@anbelyn.de
SUMMARY:Hoop Dance Day in Bremen
DESCRIPTION:Gemeinsam wollen wir wieder hoopen und Tricks lernen! \nEs gibt verschiedene Workshops und gemeinsame Jam-Zeit\, außerdem ein gemeinsames Picknick\, zu dem alle etwas Leckeres mitbringen.\nWir nehmen 10€ für die Kosten\, die für die Location entstehen (dafür bist du auch dann versichert)\nTrage dich hier ein und du bekommst weitere Infos per Mail.
URL:https://anbelyn.de/veranstaltung/hoop-dance-day-in-bremen/
END:VEVENT
END:VCALENDAR