BEGIN:VCALENDAR
VERSION:2.0
PRODID:-//Anbelyn - ECPv6.15.20//NONSGML v1.0//EN
CALSCALE:GREGORIAN
METHOD:PUBLISH
X-WR-CALNAME:Anbelyn
X-ORIGINAL-URL:https://anbelyn.de
X-WR-CALDESC:Veranstaltungen für Anbelyn
REFRESH-INTERVAL;VALUE=DURATION:PT1H
X-Robots-Tag:noindex
X-PUBLISHED-TTL:PT1H
BEGIN:VTIMEZONE
TZID:Europe/Helsinki
BEGIN:DAYLIGHT
TZOFFSETFROM:+0200
TZOFFSETTO:+0300
TZNAME:EEST
DTSTART:20240331T010000
END:DAYLIGHT
BEGIN:STANDARD
TZOFFSETFROM:+0300
TZOFFSETTO:+0200
TZNAME:EET
DTSTART:20241027T010000
END:STANDARD
BEGIN:DAYLIGHT
TZOFFSETFROM:+0200
TZOFFSETTO:+0300
TZNAME:EEST
DTSTART:20250330T010000
END:DAYLIGHT
BEGIN:STANDARD
TZOFFSETFROM:+0300
TZOFFSETTO:+0200
TZNAME:EET
DTSTART:20251026T010000
END:STANDARD
BEGIN:DAYLIGHT
TZOFFSETFROM:+0200
TZOFFSETTO:+0300
TZNAME:EEST
DTSTART:20260329T010000
END:DAYLIGHT
BEGIN:STANDARD
TZOFFSETFROM:+0300
TZOFFSETTO:+0200
TZNAME:EET
DTSTART:20261025T010000
END:STANDARD
END:VTIMEZONE
BEGIN:VEVENT
DTSTART;VALUE=DATE:20250708
DTEND;VALUE=DATE:20250713
DTSTAMP:20260424T043805
CREATED:20240603T065515Z
LAST-MODIFIED:20241107T103317Z
UID:1191-1751932800-1752364799@anbelyn.de
SUMMARY:ITALIAN HOOP CONNECTION\, SIZILIEN
DESCRIPTION:Die  Italian  Hoop Connection  ist seit 10 Jahren das jährliche Treffen der Hooper in Italien. \nSind Sie bereit\, sich uns anzuschließen?!? \nJedes Jahr unterrichtet das Lehrerteam einen ausgewogenen und vielfältigen Stilmix aus Techniken und kreativen Workshops für Anfänger bis Fortgeschrittene.\nBitte besuchen Sie diese Website\, um alle Informationen zu der Veranstaltung zu erhalten\, die Sie benötigen. \nDie Italian Hoop Connection 2024 findet in Femminamorta statt\, einem wunderschönen Herrenhaus auf Sizilien\, nur ein paar Kilometer vom Meer entfernt und von wo aus Sie den Blick auf den Vulkan Ätna genießen können. \nDie Nacht wird mit Poolparty\, Showhouse und Musikparty gefüllt sein! Machen Sie sich bereit für jede Menge Spaß!!! \nZiel ist es\, so viel Zeit wie möglich mit intensivem Lernen und Teilen zu verbringen. Wir können es kaum erwarten\, Sie zu dieser neuen Ausgabe begrüßen zu dürfen!
URL:https://anbelyn.de/veranstaltung/italian-hoop-connection/
END:VEVENT
END:VCALENDAR